Workbook

Sheet RESUMEN 2020-2023
E2: PROYECTOS VIABILIZADOS SGR (2020-2023)
B3: PROYECTOS TOTAL | C3: =C5+C4 -> 140 | E3: FINANCIACIÓN SGR | F3: # PROYECTOS | G3: % | H3: Valor Total
B4: SGR | C4: 21 | E4: ASIGNACION PARA INVERSION REGIONAL 40% | F4: 1 | G4: =F4/$F$7*100 -> 4.7619048 | H4: 64273309425
B5: Recursos propios | C5: 119 | E5: ASIGNACION PARA INVERSION REGIONAL 60% | F5: 14 | G5: =F5/$F$7*100 -> 66.666667 | H5: ='PROYECTOS 2020-2023'!#REF! -> #REF!
E6: SGR CTeI | F6: 6 | G6: =F6/$F$7*100 -> 28.571429 | H6: ='PROYECTOS 2020-2023'!K152 -> 0
B7: FINANCIACIÓN DE PROYECTOS | E7: TOTAL | F7: =SUM(F4:F6) -> 21
B8: FUENTE DE FINANCIACIÓN | C8: % | H8: =SUM(H4:H6) -> #REF!
B9: SGR | C9: 0.15
B10: RECURSOS PROPIOS | C10: 0.8485
B12: RESUMEN FINANCIERO 2020-2023
B13: FUENTE | C13: VALOR TOTAL | D13: %
B14: SGR | C14: ='PROYECTOS 2020-2023'!M157 -> 4.7547014e+11 | D14: =C14/C16*100 -> 41.799246
B15: RECURSOS PROPIOS | C15: ='PROYECTOS 2020-2023'!M158 -> 6.6203875e+11 | D15: =C15/C16*100 -> 58.200754
B16: TOTAL | C16: =C14+C15 -> 1.1375089e+12 | D16: 100
I146: ='RESUMEN 2020-2023'!H5=I81+I80+I75+I58+I55+I44+I40+I39+I34+I21+I20+I19+I18+I17+I14+I3 -> #REF!
J149: ='RESUMEN 2020-2023'!F12 -> 0

Sheet CONCORDIA (2)
A1: BANCO DE PROYECTOS DE INVERSIÓN DEPARTAMENTAL 2023
A2: N | B2: REVOLUCIÓN | C2: BPIN | D2: AÑO | E2: DEPENDENCIA | F2: SECTOR | G2: SUBSECTOR | H2: NOMBRE DEL PROYECTO | I2: ALCANCE | J2: POBLACION AFECTADA | K2: POBLACION OBJETIVO | L2: LOCALIZACION | M2: VALOR TOTAL DEL PROYECTO | N2: FUENTE DE FINANCIACIÓN | O2: NUMERO DE INDICADORES PDD | P2: INDICADORES PDD | Q2: ESTADO | R2: LINEA NUEVO PLAN NACIONAL DE DESARROLLO | S2: ARCHIVO | T2: VIABILIDI | U2: ARCHIVO | V2: VIABILIDAD
A3: 1 | B3: REVOLUCIÓN DE LA EDUCACIÓN Y BECAS DEL CAMBIO | C3: 2021000020058 | D3: 2021 | E3: SECRETARÍA DE EDUCACIÓN | F3: EDUCACIÓN | G3: ALFABETIZACIÓN | H3: IMPLEMENTACIÓN DEL PROYECTO DE ALFABETIZACIÓN YO SÍ CAMBIO EN EL DEPARTAMENTO DEL MAGDALENA | I3: 30.000 PERSONAS ALFABETIZADAS | J3: 30 MIL PERSONAS | K3: 30 MIL PERSONAS | L3: Algarrobo, Aracataca, Ariguaní, Cerro San Antonio, Chibolo, Concordia, El banco, Fundación, Guamal, Nueva granada, Pedraza, Pijiño del Carmen, El piñón, Pivijay, Plato, Pueblo viejo, Remolino, Retén, Sabanas de san ángel, Salamina, San Sebastián de Buenavista, San Zenón, Santa Ana, Santa bárbara de pinto, Sitionuevo, Tenerife, Zapayan, zona bananera, Ciénaga, Santa Marta | M3: 12906000000 | N3: SGR - Asignación para la inversión regional 60% | O3: 3 | P3: 1. Alfabetizar (50.000) adultos y jóvenes mayores de 15 años mediante la vinculación de 2.000 voluntarios bachilleres, profesionales, funcionarios, entre otros 2. Consolidar (10.000) historias contadas por alfabetizados. 3. Suscribir (1) Alianza por el Cambio para la Alfabetización con amplia participación de la sociedad | Q3: PROYECTO CON CÓDIGO Y CON FINANCIACIÓN | R3: SEGURIDAD HUMANA Y JUSTICIA SOCIAL
A4: 2 | B4: REVOLUCIÓN DE LA EDUCACIÓN Y BECAS DEL CAMBIO | C4: 2021002470066 | D4: 2021 | E4: SECRETARÍA DE EDUCACIÓN | F4: EDUCACIÓN | G4: EDUCACIÓN INICIAL | H4: FORTALECIMIENTO DE AMBIENTES Y EXPERIENCIAS PEDAGÓGICAS PARA LOS ESTUDIANTES DE PREESCOLAR EN EL DEPARTAMENTO DEL MAGDALENA | I4: ADQUISICIÓN DE DOTACIONES PEDAGÓGICAS PARA EL FORTALECIMIENTO DE LOS AMBIENTES PEDAGÓGICOS DE 183 AULAS DE PREESCOLAR DE LA ETC MAGDALENA. | J4: 15.953 ESTUDIANTES | K4: 4.186 ESTUDIANTES | L4: Algarrobo, Aracataca, Ariguaní, Cerro San Antonio, Chibolo, Concordia, El banco, Fundación, Guamal, Nueva granada, Pedraza, Pijiño del Carmen, El piñón, Pivijay, Plato, Pueblo viejo, Remolino, Retén, Sabanas de san ángel, Salamina, San Sebastián de Buenavista, San Zenón, Santa Ana, Santa bárbara de pinto, Sitionuevo, Tenerife, Zapayan, zona bananera, Ciénaga, Santa Marta | M4: 1183952578 | N4: Recursos propios | O4: 3 | P4: 1. Vincular a (2.000) nuevos niños y niñas de 0 a 3 años a la educación inicial para la primera infancia pública y de calidad. 2. Implementar (1) ruta de garantía para la transición de niños y niñas al sistema educativo. 3. Mantener la cobertura y vincular (4.500) nuevos estudiantes a la educación preescolar, básica y media al sistema educativo público. | Q4: PROYECTO CON CÓDIGO Y SIN FINANCIACIÓN | R4: SEGURIDAD HUMANA Y JUSTICIA SOCIAL
A5: 3 | B5: REVOLUCIÓN DE LA EDUCACIÓN Y BECAS DEL CAMBIO | C5: 2020002470029 | D5: 2020 | E5: SECRETARÍA DE EDUCACIÓN | F5: EDUCACIÓN | G5: EDUCACIÓN BÁSICA Y MEDIA | H5: MEJORAMIENTO DE LA CALIDAD EDUCATIVA A TRAVÉS DE LA FORMACIÓN DE DOCENTES Y DIRECTIVOS DOCENTES EN EL DISEÑO, DESARROLLO CURRICULAR Y LA GESTIÓN PEDAGÓGICA EN LOS ESTABLECIMIENTOS EDUCATIVOS MAGDALENA | I5: FORMAR A 8.800 DOCENTES EN EL CUATRENIO QUE VOLUNTARIA Y PREVIAMENTE SELECCIONADOS, DE ACUERDO CON LOS CRITERIOS CONJUNTAMENTE ESTABLECIDOS POR LA SECRETARÍA DE EDUCACIÓN DEL MAGDALENA | J5: C | K5: 2.670 PERSONAS | L5: Algarrobo, Aracataca, Ariguaní, Cerro San Antonio, Chibolo, Concordia, El banco, Fundación, Guamal, Nueva granada, Pedraza, Pijiño del Carmen, El piñón, Pivijay, Plato, Pueblo viejo, Remolino, Retén, Sabanas de san ángel, Salamina, San Sebastián de Buenavista, San Zenón, Santa Ana, Santa bárbara de pinto, Sitionuevo, Tenerife, Zapayan, zona bananera, Ciénaga, Santa Marta | M5: 5027939484 | N5: Recursos propios | O5: 2 | P5: 1. Vincular (2.000) maestros y directivos en programas de profesionalización, actualización, especialización, estudios avanzados, etc, para el fortalecimiento de la calidad, el liderazgo pedagógico, el pensamiento y la convivencia, con acceso a los recursos del FCTeI. 2. Crear y poner en funcionamiento (1) centro de apoyo para la innovación en la docencia en programas de formación para el mejoramiento educativo. | Q5: PROYECTO CON CÓDIGO Y CON FINANCIACIÓN | R5: SEGURIDAD HUMANA Y JUSTICIA SOCIAL
A6: 4 | B6: REVOLUCIÓN DE LA EDUCACIÓN Y BECAS DEL CAMBIO | C6: 2022002470015 | D6: 2022 | E6: SECRETARÍA DE INFRAESTRUCTURA | F6: EDUCACIÓN | G6: EDUCACIÓN BÁSICA Y MEDIA | H6: ESTUDIOS Y DISEÑOS PARA LA CONSTRUCCIÓN DE INFRAESTRUCTURA SOCIAL Y COMUNITARIA (COLEGIOS DEL CAMBIO CONSTRUCCIÓN NUEVAS SEDES) (HOSPITALES I II NIVEL ) (PUESTOS Y CENTROS 11) | I6: (COLEGIOS DEL CAMBIO CONSTRUCCIÓN NUEVAS SEDES) (HOSPITALES I II NIVEL ) (PUESTOS Y CENTROS 11) | J6: 1.463.427 PERSONAS | K6: 902.655 PERSONAS | L6: SANTA MARTA, ARACATACA, ZONA BANANERA. ARIGUANI, CHIBOLO, ZAPAYAN, SALAMINA, EL BANCO, GUAMAL, PIJIÑO DEL CARMEN, SANTA ANA, SAN ZENON | M6: 1858294757 | N6: Recursos propios | O6: 3 | P6: 1.2.2.2.15 Gestionar la adecuación, construcción y/o dotación de (58) Instituciones Educativas públicas, así como gestionar, acompañar y coordinar las adecuaciones e intervenciones que se adelantan por parte del Gobierno Nacional. 1.2.3.1.1 Gestionar la construcción, adecuación y /o dotación de (6) centros Cambia en las subregiones, como sedes permanentes del Programa Universidad Pública al Pueblo en los municipios de Pivijay, Cienaga, Plato, El Banco, Fundación y Santa Marta. 1.3.2.2.6 Gestionar la adecuación y/o construcción de (12) nuevos puestos y centros de salud. | Q6: PROYECTO CON CÓDIGO Y CON FINANCIACIÓN | R6: ORDENAMIENTO TERRITORIAL PARA LA PAZ
A7: 5 | B7: REVOLUCIÓN DE LA EDUCACIÓN Y BECAS DEL CAMBIO | C7: 2020002470036 | D7: 2020 | E7: SECRETARÍA DE EDUCACIÓN | F7: EDUCACIÓN | G7: EDUCACIÓN BÁSICA Y MEDIA | H7: FORTALECIMIENTO DE LA IMPLEMENTACIÓN DE ESTRATEGIAS DE INCLUSIÓN EN LAS INSTITUCIONES EDUCATIVAS EN EL DEPARTAMENTO DEL MAGDALENA | I7: ESTRATEGIAS DE INCLUSIÓN EN LAS INSTITUCIONES EDUCATIVAS EN EL DEPARTAMENTO DEL MAGDALENA | J7: 2.450 ESTUDIANTES | K7: 2.450 ESTUDIANTES | L7: Algarrobo, Aracataca, Ariguaní, Cerro San Antonio, Chibolo, Concordia, El banco, Fundación, Guamal, Nueva granada, Pedraza, Pijiño del Carmen, El piñón, Pivijay, Plato, Pueblo viejo, Remolino, Retén, Sabanas de san ángel, Salamina, San Sebastián de Buenavista, San Zenón, Santa Ana, Santa bárbara de pinto, Sitionuevo, Tenerife, Zapayan, zona bananera, Ciénaga, Santa Marta | M7: 1308987336 | N7: Recursos propios | O7: 1 | P7: 1. Garantizar la vinculación (15.000) nuevos estudiantes: niños y niñas con discapacidad, estudiantes con capacidades o talentos excepcionales y adultos mayores de 15 años que se encuentra por fuera del sistema educativo. | Q7: PROYECTO CON CÓDIGO Y CON FINANCIACIÓN | R7: SEGURIDAD HUMANA Y JUSTICIA SOCIAL
A8: 6 | B8: REVOLUCIÓN DE LA EDUCACIÓN Y BECAS DEL CAMBIO | C8: 2021002470015 | D8: 2021 | E8: SECRETARÍA DE EDUCACIÓN | F8: EDUCACIÓN | G8: EDUCACIÓN BÁSICA Y MEDIA | H8: IMPLEMENTACIÓN DEL PLAN DE PRUEBAS SABER Y FORMACIÓN DOCENTE EN EL DEPARTAMENTO DEL MAGDALENA | I8: PRUEBAS SABER Y FORMACIÓN DOCENTE EN EL DEPARTAMENTO DEL MAGDALENA | J8: 189.040 PERSONAS | K8: 8.761 ESTUDIANTES 500 DOCENTES | L8: Algarrobo, Aracataca, Ariguaní, Cerro San Antonio, Chibolo, Concordia, El banco, Fundación, Guamal, Nueva granada, Pedraza, Pijiño del Carmen, El piñón, Pivijay, Plato, Pueblo viejo, Remolino, Retén, Sabanas de san ángel, Salamina, San Sebastián de Buenavista, San Zenón, Santa Ana, Santa bárbara de pinto, Sitionuevo, Tenerife, Zapayan, zona bananera, Ciénaga, Santa Marta | M8: 1790286550 | N8: Recursos propios | O8: 4 | P8: 1. Suscribir (155) Alianzas por el Cambio para la educación de calidad, con directivos, docentes, estudiantes y padres de familia. 2. Vincular (2.000) maestros y directivos en programas de profesionalización, actualización, especialización, estudios avanzados, etc, para el fortalecimiento de la calidad, el liderazgo pedagógico, el pensamiento y la convivencia, con acceso a los recursos del FCTeI. 3. Implementar (1) plan de estímulos al mejoramiento de los resultados en las Pruebas Saber 3º, 5º, 7º, 9º y 11º 4. Suscribir (28) Alianzas por el Cambio para el mejoramiento del nivel de inglés de los estudiantes con cada uno de los Municipios no Certificados. | Q8: PROYECTO CON CÓDIGO Y CON FINANCIACIÓN | R8: SEGURIDAD HUMANA Y JUSTICIA SOCIAL
A9: 7 | B9: REVOLUCIÓN DE LA EDUCACIÓN Y BECAS DEL CAMBIO | C9: 2022002470012 | D9: 2022 | E9: SECRETARÍA DE EDUCACIÓN | F9: EDUCACIÓN | G9: EDUCACIÓN BASICA Y MEDIA | H9: PRESTACIÓN DE SERVICIO DE CONECTIVIDAD A INTERNET EN SEDES EDUCATIVAS OFICIALES , EN EL MARCO DEL PROGRAMA ESTRATEGIA CONECTIVIDAD ESCOLAR MAGDALENA. | I9: DOTACIÓN DEL SERVICIO DE CONECTIVIDAD A INTERNET EN 202 SEDES EDUCATIVAS PÚBLICAS DE EDUCACIÓN BÁSICA Y MEDIA EN EL DEPARTAMENTO DEL MAGDALENA EN EL MARCO DEL PROGRAMA ESTRATEGIA DE CONECTIVIDAD ESCOLAR. | J9: 187.622 PERSONAS | K9: 104.636 PERSONAS | L9: Algarrobo, Aracataca, Ariguaní, Cerro San Antonio, Chibolo, Concordia, El banco, Fundación, Guamal, Nueva granada, Pedraza, Pijiño del Carmen, El piñón, Pivijay, Plato, Pueblo viejo, Remolino, Retén, Sabanas de san ángel, Salamina, San Sebastián de Buenavista, San Zenón, Santa Ana, Santa bárbara de pinto, Sitionuevo, Tenerife, Zapayan, zona bananera, Ciénaga, Santa Marta | M9: 2100377192 | N9: Recursos propios | O9: 1 | P9: Conectividad en las Instituciones Educativas Rurales y Urbanas. | Q9: PROYECTO CON CÓDIGO Y CON FINANCIACIÓN | R9: SEGURIDAD HUMANA Y JUSTICIA SOCIAL
A10: 8 | B10: REVOLUCIÓN DE LA EDUCACIÓN Y BECAS DEL CAMBIO | C10: 2022002470018 | D10: 2022 | E10: SECRETARÍA DE EDUCACIÓN | F10: EDUCACIÓN | G10: EDUCACIÓN BÁSICA Y MEDIA | H10: FORTALECIMIENTO DE LA CALIDAD EDUCATIVA EN LAS INSTITUCIONES EDUCATIVAS DEL DEPARTAMENTO DEL MAGDALENA (PRUEBAS SABER - FORMACIÓN DOCENTE) | I10: IMPLEMENTAR UNA ESTRATEGIA PARA LA FORMACIÓN INTENSIVA PARA EL ENTRENAMIENTO A LAS PRUEBAS SABER A 30.810 ESTUDIANTES DE LAS INSTITUCIONES EDUCATIVAS DEL DEPARTAMENTO DEL MAGDALENA | J10: 180.100 PERSONAS | K10: 30.831 PERSONAS | L10: Algarrobo, Aracataca, Ariguaní, Cerro San Antonio, Chibolo, Concordia, El banco, Fundación, Guamal, Nueva granada, Pedraza, Pijiño del Carmen, El piñón, Pivijay, Plato, Pueblo viejo, Remolino, Retén, Sabanas de san ángel, Salamina, San Sebastián de Buenavista, San Zenón, Santa Ana, Santa bárbara de pinto, Sitionuevo, Tenerife, Zapayan, zona bananera, Ciénaga, Santa Marta | M10: 2912956374 | N10: Recursos propios | O10: 3 | P10: 1.2.2.2.2 Realizar (4) olimpiadas y ferias del conocimiento de la calidad, para fortalecer competencias básicas y transversales en pensamiento lógico matemático, lectoescritura, construcción de proyecto de vida. 1.2.2.2.3 Implementar (1) plan de estímulos al mejoramiento de los resultados en las Pruebas Saber 3º, 5º, 7º, 9º y 11º. 1.2.2.2.4 Suscribir (28) Alianzas por el Cambio para el mejoramiento del nivel de inglés de los estudiantes con cada uno de los Municipios no Certificados | Q10: PROYECTO CON CÓDIGO Y CON FINANCIACIÓN | R10: SEGURIDAD HUMANA Y JUSTICIA SOCIAL
A11: 9 | B11: REVOLUCIÓN DE LA EDUCACIÓN Y BECAS DEL CAMBIO | C11: 2022002470037 | D11: 2022 | E11: SECRETARÍA DE EDUCACIÓN | F11: EDUCACIÓN | G11: EDUCACIÓN BÁSICA Y MEDIA | H11: FORTALECIMIENTO DE LA IMPLEMENTACIÓN DE ESTRATEGIAS DE INCLUSIÓN EN LAS INSTITUCIONES EDUCATIVAS EN EL DEPARTAMENTO DEL MAGDALENA | I11: IMPLEMENTAR ESTRATEGIA DE INCLUSIÓN CON HERRAMIENTAS TÉCNICAS Y DIDÁCTICAS DE FORMACIÓN, ASISTENCIAS TÉCNICAS Y PEDAGÓGICAS A 2.213 ESTUDIANTES EN LAS INSTITUCIONES EDUCATIVAS DEL DEPARTAMENTO DEL MAGDALENA | J11: 2.313 PERSONAS | K11: 2.313 PERSONAS | L11: Algarrobo, Aracataca, Ariguaní, Cerro San Antonio, Chibolo, Concordia, El banco, Fundación, Guamal, Nueva granada, Pedraza, Pijiño del Carmen, El piñón, Pivijay, Plato, Pueblo viejo, Remolino, Retén, Sabanas de san ángel, Salamina, San Sebastián de Buenavista, San Zenón, Santa Ana, Santa bárbara de pinto, Sitionuevo, Tenerife, Zapayan, zona bananera, Ciénaga, Santa Marta | M11: 1200865220 | N11: Recursos propios | O11: 1 | P11: 1.2.1.2.6 Garantizar la vinculación (15000) nuevos estudiantes: niños y niñas con discapacidad, estudiantes con capacidades o talentos excepcionales y adultos mayores de 15 años que se encuentra por fuera del sistema educativo | Q11: PROYECTO CON CÓDIGO Y CON FINANCIACIÓN | R11: SEGURIDAD HUMANA Y JUSTICIA SOCIAL
A12: 10 | B12: REVOLUCIÓN DE LA EDUCACIÓN Y BECAS DEL CAMBIO | C12: 2022002470038 | D12: 2022 | E12: SECRETARÍA DE EDUCACIÓN | F12: EDUCACIÓN | G12: EDUCACIÓN BÁSICA Y MEDIA | H12: CONSTRUCCIÓN Y DOTACIÓN DE ESPACIOS SANITARIOS PARA FORTALECER LA BIOSEGURIDAD EN LAS SEDES RURALES EDUCATIVAS DISPERSAS EN LAS IED DE MUNICIPIOS NO CERTIFICADOS EN EL DEPARTAMENTO MAGDALENA (BATERIAS SANITARIAS) | I12: CONSTRUIR Y DOTAR LOS ESPACIOS SANITARIOS PARA FORTALECER LA BIOSEGURIDAD EN LAS 125 SEDES RURALES EDUCATIVAS DISPERSAS EN LAS IED DE MUNICIPIOS NO CERTIFICADOS EN EL DEPARTAMENTO DEL MAGDALENA | J12: 188.676 PERSONAS | K12: 13.250 PERSONAS | L12: Algarrobo, Aracataca, Ariguaní, Cerro San Antonio, Chibolo, Concordia, El banco, Fundación, Guamal, Nueva granada, Pedraza, Pijiño del Carmen, El piñón, Pivijay, Plato, Pueblo viejo, Remolino, Retén, Sabanas de san ángel, Salamina, San Sebastián de Buenavista, San Zenón, Santa Ana, Santa bárbara de pinto, Sitionuevo, Tenerife, Zapayan, zona bananera, Ciénaga, Santa Marta | M12: 3666319620 | N12: Recursos propios | O12: 3 | P12: 1.2.1.2.3 Mantener la cobertura y vincular (4.500) nuevos estudiantes a la educación preescolar, básica y media al sistema educativo público. 1.2.2.2.5 Gestionar la formulación y ejecución de los Planes de Educación Rural en los 28 municipios no certificados. 1.2.2.2.12 Poner en funcionamiento y dotación las Escuelas Saludables para beneficiar a (100.000) NNA y Jóvenes de las Instituciones Educativas públicas en (29) municipios del Departamento. | Q12: PROYECTO CON CÓDIGO Y CON FINANCIACIÓN | R12: SEGURIDAD HUMANA Y JUSTICIA SOCIAL
B13: REVOLUCION DE LA EQUIDAD | C13: 2021002470055 | D13: 2021 | E13: OFICINA DE CULTURA | F13: CULTURA | G13: CULTURA | H13: IMPLEMENTACIÓN DEL SISTEMA ORQUESTAL Y CORAL EN EL MARCO DE LAS ESCUELAS CUMBIA Y DE LAS ARTES EN LAS INSTITUCIONES EDUCATIVAS EN EL DEPARTAMENTO DEL MAGDALENA | I13: IMPLEMENTACIÓN DEL SISTEMA ORQUESTAL Y CORAL EN EL MARCO DE LAS ESCUELAS CUMBIA Y DE LAS ARTES EN LAS INSTITUCIONES EDUCATIVAS EN EL DEPARTAMENTO DEL MAGDALENA | J13: 1.449.087 PERSONAS | K13: 1.449.087 PERSONAS | L13: Algarrobo, Aracataca, Ariguaní, Cerro San Antonio, Chibolo, Concordia, El banco, Fundación, Guamal, Nueva granada, Pedraza, Pijiño del Carmen, El piñón, Pivijay, Plato, Pueblo viejo, Remolino, Retén, Sabanas de san ángel, Salamina, San Sebastián de Buenavista, San Zenón, Santa Ana, Santa bárbara de pinto, Sitionuevo, Tenerife, Zapayan, zona bananera, Ciénaga, Santa Marta | M13: 3.9210807e+10 | N13: Recursos propios | O13: 1 | P13: Poner en funcionamiento y dotación las Escuelas CUMBIA de la música y de las artes en instituciones educativas públicas, para beneficiar (50.000) NNA y jóvenes en (29) Municipios del departamento. | Q13: PROYECTO CON CÓDIGO Y CON FINANCIACIÓN | R13: SEGURIDAD HUMANA Y JUSTICIA SOCIAL
A14: 11 | B14: REVOLUCIÓN DE LA EDUCACIÓN Y BECAS DEL CAMBIO | C14: 2021000100175 | D14: 2021 | E14: SECRETARÍA DE EDUCACIÓN | F14: EDUCACIÓN | G14: EDUCACIÓN BÁSICA Y MEDIA | H14: FORTALECIMIENTO DE ESTABLECIMIENTOS EDUCATIVOS OFICIALES QUE IMPLEMENTEN LA JORNADA ÚNICA MEDIANTE LA APROPIACIÓN SOCIAL DEL CONOCIMIENTO PARA DESARROLLAR CAPACIDADES Y HABILIDADES EN CTEI EN EL DEPARTAMENTO DEL MAGDALENA | I14: AMPLIACIÓN DE LA JORNADA ÚNICA MEDIANTE LA APROPIACIÓN SOCIAL DEL CONOCIMIENTO PARA DESARROLLAR CAPACIDADES Y HABILIDADES EN CTEI EN EL DEPARTAMENTO | J14: 3.717 ESTUDIANTES | K14: 3.717 ESTUDIANTES | L14: Algarrobo, Aracataca, Ariguaní, Cerro San Antonio, Chibolo, Concordia, El banco, Fundación, Guamal, Nueva granada, Pedraza, Pijiño del Carmen, El piñón, Pivijay, Plato, Pueblo viejo, Remolino, Retén, Sabanas de san ángel, Salamina, San Sebastián de Buenavista, San Zenón, Santa Ana, Santa bárbara de pinto, Sitionuevo, Tenerife, Zapayan, zona bananera, Ciénaga, Santa Marta | M14: 3380500000 | N14: SGR - CTeI | O14: 3 | P14: 1. Vincular (5.000) nuevos estudiantes para la ampliación de la Jornada Única. 2. Gestionar la formulación y ejecución de los Planes de Educación Rural en los 28 municipios no certificados 3.Implementar modelos educativos flexibles en (5) Municipios no certificados del Departamento. | Q14: PROYECTO CON CÓDIGO Y CON FINANCIACIÓN | R14: SEGURIDAD HUMANA Y JUSTICIA SOCIAL
A15: 12 | B15: REVOLUCIÓN DE LA EDUCACIÓN Y BECAS DEL CAMBIO | C15: 2021002470057 | D15: 2021 | E15: SECRETARÍA DE EDUCACIÓN | F15: EDUCACIÓN | G15: EDUCACIÓN BÁSICA Y MEDIA | H15: FORTALECIMIENTO DE LA DOTACIÓN ESCOLAR PARA GARANTIZAR LA COBERTURA Y PERMANENCIA DE LOS ESTUDIANTES DE LAS SEDES EDUCATIVAS OFICIALES EN EL DEPARTAMENTO DEL MAGDALENA | I15: DOTACIÓN DE 30.000 MOBILIARIO ESCOLAR Y 115.000 AGENDAS MULTIMATERIAS DOTACIÓN DE SINFÓNICA Y ESCUELA DE CANTO DOTACIÓN DE ESCUELAS DEPORTIVAS | J15: 307.810 ESTUDIANTES | K15: 223.937 ESTUDIANTES | L15: Algarrobo, Aracataca, Ariguaní, Cerro San Antonio, Chibolo, Concordia, El banco, Fundación, Guamal, Nueva granada, Pedraza, Pijiño del Carmen, El piñón, Pivijay, Plato, Pueblo viejo, Remolino, Retén, Sabanas de san ángel, Salamina, San Sebastián de Buenavista, San Zenón, Santa Ana, Santa bárbara de pinto, Sitionuevo, Tenerife, Zapayan, zona bananera, Ciénaga, Santa Marta | M15: 23109745750 | N15: SGR - Asignación para la inversión regional 60% | O15: 3 | P15: 1. Gestionar la dotación de (56.000) dispositivos, tablets y computadores con conexión a internet para entrega a estudiantes y docentes como recursos para garantizar la calidad educativa en la pandemia y postpandemia en los Colegios Públicos. 2. Poner en funcionamiento y dotar Escuelas de Transformación Digital para beneficiar a 100.000 estudiantes y docentes de las Instituciones Educativas públicas en los (28) Municipios no certificados del Departamento 3. Poner en funcionamiento y dotación Escuelas CUMBIA de la música y de las artes en Instituciones Educativas públicas, para beneficiar (50.000) NNA y Jóvenes en (29) Municipios del Departamento. | Q15: PROYECTO CON CÓDIGO Y CON FINANCIACIÓN | R15: SEGURIDAD HUMANA Y JUSTICIA SOCIAL
A16: 13 | B16: REVOLUCIÓN DE LA EDUCACIÓN Y BECAS DEL CAMBIO | C16: 2021002470086 | D16: 2021 | E16: SECRETARÍA DE EDUCACIÓN | F16: EDUCACIÓN | G16: DOTACIÓN ESCOLAR | H16: IMPLEMENTACIÓN DEL PROGRAMA "CICLAS PARA LA ALEGRÍA" EN EL MARCO DEL PLAN DE SEGURIDAD VIAL DEL DEPARTAMENTO DEL MAGDALENA | I16: BICICLETAS ESCOLARES PARA BENEFICIAR 6.800 ESTUDIANTES | J16: 6.800 ESTUDIANTES | K16: 222.927 ESTUDIANTES | L16: Algarrobo, Aracataca, Ariguaní, Cerro San Antonio, Chibolo, Concordia, El banco, Fundación, Guamal, Nueva granada, Pedraza, Pijiño del Carmen, El piñón, Pivijay, Plato, Pueblo viejo, Remolino, Retén, Sabanas de san ángel, Salamina, San Sebastián de Buenavista, San Zenón, Santa Ana, Santa bárbara de pinto, Sitionuevo, Tenerife, Zapayan, zona bananera, Ciénaga, Santa Marta | M16: 3170881900 | N16: Recursos propios | O16: 2 | P16: 1. Formular e implementar (1) plan vial del Magdalena 2. Formular e implementar (1) plan integral de seguridad vial del Magdalena | Q16: PROYECTO CON CÓDIGO Y CON FINANCIACIÓN | R16: SEGURIDAD HUMANA Y JUSTICIA SOCIAL
A17: 14 | B17: REVOLUCIÓN DE LA EDUCACIÓN Y BECAS DEL CAMBIO | C17: 2020002470033 | D17: 2020 | E17: OFICINA ASESORA DE COMUNICACIONES | F17: EDUCACIÓN | G17: TECNOLOGIAS DE LA INFORMACION Y LAS COMUNICACIONES | H17: IMPLEMENTACIÓN DE LA NUEVA ESCUELA VIRTUAL MAGDALENA RENACE COMO UN MODELO DE ACOMPAÑAMIENTO, FORMATIVO, TECNOLÓGICO Y MOTIVACIONAL A LOS ESTUDIANTES, DOCENTES Y DIRECTIVOS DOCENTES EN LOS ESTABLECIMIENTOS EDUCATIVOS MAGDALENA | I17: LA NUEVA ESCUELA VIRTUAL MAGDALENA RENACE SE PRESENTA COMO UN MODELO DE ACOMPAÑAMIENTO, FORMATIVO, TECNOLÓGICO Y MOTIVACIONAL, QUE ESTARÁ DISPONIBLE PARA TODOS LOS ESTUDIANTES, DOCENTES Y DIRECTIVOS DOCENTES. | J17: 189.570 PERSONAS | K17: 100.000 ENTRE ESTUDIANTES, DOCENTES Y DIRECTIVOS DOCENTES. | L17: Algarrobo, Aracataca, Ariguaní, Cerro San Antonio, Chibolo, Concordia, El banco, Fundación, Guamal, Nueva granada, Pedraza, Pijiño del Carmen, El piñón, Pivijay, Plato, Pueblo viejo, Remolino, Retén, Sabanas de san ángel, Salamina, San Sebastián de Buenavista, San Zenón, Santa Ana, Santa bárbara de pinto, Sitionuevo, Tenerife, Zapayan, zona bananera, Ciénaga, Santa Marta | M17: 1500000000 | N17: Recursos propios | O17: 1 | P17: 1. Poner en funcionamiento y dotar Escuelas de Transformación Digital para beneficiar a 100.000 estudiantes y docentes de las Instituciones Educativas públicas en los (28) Municipios no certificados del Departamento. | Q17: PROYECTO CON CÓDIGO Y CON FINANCIACIÓN | R17: SEGURIDAD HUMANA Y JUSTICIA SOCIAL
A18: 15 | B18: REVOLUCIÓN DE LA EDUCACIÓN Y BECAS DEL CAMBIO | C18: 2021002470060 | D18: 2021 | E18: SECRETARÍA DE EDUCACIÓN | F18: EDUCACIÓN | G18: EDUCACIÓN SUPERIOR | H18: IMPLEMENTACIÓN DEL PROYECTO "BECAS DEL CAMBIO" MEDIANTE LA FINANCIACIÓN DEL PROYECTO EN EDUCAICÓN SUPERIOR PÚBLICA, GRATUITA Y DE CALIDAD EL DEPARTAMENTO DEL MAGDALENA | I18: CONSISTE EN FOCALIZAR Y ASIGNAR 12.880 BECAS POR CICLO PROPEDÉUTICO A LOS BACHILLERES EGRESADOS DE LA MEDIA, EN EDUCACIÓN SUPERIOR EN LOS NIVELES DE FORMACIÓN TÉCNICA PROFESIONAL, TECNOLÓGICA Y PROFESIONAL UNIVERSITARIO. | J18: 12.880 BACHILLERES | K18: 221.917 BACHILLERES | L18: Algarrobo, Aracataca, Ariguaní, Cerro San Antonio, Chibolo, Concordia, El banco, Fundación, Guamal, Nueva granada, Pedraza, Pijiño del Carmen, El piñón, Pivijay, Plato, Pueblo viejo, Remolino, Retén, Sabanas de san ángel, Salamina, San Sebastián de Buenavista, San Zenón, Santa Ana, Santa bárbara de pinto, Sitionuevo, Tenerife, Zapayan, zona bananera, Ciénaga, Santa Marta | M18: 8.9797904e+10 | N18: SGR - Asignación para la inversión regional 60% | O18: 1 | P18: 1. Beneficiar (30.000) bachilleres con acceso a becas de educación universitaria pública, gratuita, de calidad y pertinente en modalidades presencial, a distancia y digital en todas las subregiones del Departamento. | Q18: PROYECTO CON CÓDIGO Y CON FINANCIACIÓN | R18: SEGURIDAD HUMANA Y JUSTICIA SOCIAL
A19: 16 | B19: REVOLUCIÓN DE LA B18:Q18EDUCACIÓN Y BECAS DEL CAMBIO | C19: 2022002470083 | D19: 2022 | E19: SECRETARÍA DE INFRAESTRUCTURA | F19: EDUCACIÓN | G19: INFRAESTRUCTURA EDUCATIVA | H19: CONSTRUCCIÓN YO MEJORAMIENTO DE INFRAESTRUCTURA EDUCATIVA EN LOS MUNICIPIOS DEL DEPARTAMENTO DEL MAGDALENA | I19: CONSTRUCCIÓN YO MEJORAMIENTO DE INFRAESTRUCTURA EDUCATIVA EN LOS MUNICIPIOS DEL DEPARTAMENTO DEL MAGDALENA | J19: 1.449.087 PERSONAS | K19: 212.343 PERSONAS | L19: PLATO, PIVIJAY, GUAMAL, SITIONUEVO, FUNDACIÓN, EL BANCO Y ARACATACA. | M19: 52930258320 | N19: SGR - Asignación para la inversión regional 60% | O19: 3 | P19: 1. Mantener la cobertura y vincular (4.500) nuevos estudiantes a la educación preescolar, básica y media al sistema educativo público 2. Vincular a (2.000) nuevos niños y niñas de 0 a 3 años a la educación inicial para la primera infancia pública y de calidad. 3. Garantizar la vinculación (15.000) nuevos estudiantes: niños y niñas con discapacidad, estudiantes con capacidades o talentos excepcionales y adultos mayores de 15 años que se encuentra por fuera del sistema educativo | Q19: PROYECTO CON CÓDIGO Y CON FINANCIACIÓN | R19: SEGURIDAD HUMANA Y JUSTICIA SOCIAL
A20: 17 | B20: REVOLUCIÓN DE LA EDUCACIÓN Y BECAS DEL CAMBIO | C20: 2021002470075 | D20: 2021 | E20: SECRETARÍA DE INFRAESTRUCTURA | F20: EDUCACIÓN | G20: INFRAESTRUCTURA EDUCATIVA | H20: MEJORAMIENTO DE INFRAESTRUCTURA BÁSICA EN INSTITUCIONES EDUCATIVAS DE MUNICIPIOS NO CERTIFICADOS DEL DEPARTAMENTO DEL MAGDALENA (COLEGIOS DEL CAMBIO) | I20: MEJORAMIENTO DE INFRAESTRUCTURA EDUCATIVA EXISTENTE EN 70 SEDES | J20: 180.595 ESTUDIANTES | K20: 221.917 ESTUDIANTES | L20: Algarrobo, Aracataca, Ariguaní, Cerro San Antonio, Chibolo, Concordia, El banco, Fundación, Guamal, Nueva granada, Pedraza, Pijiño del Carmen, El piñón, Pivijay, Plato, Pueblo viejo, Remolino, Retén, Sabanas de san ángel, Salamina, San Sebastián de Buenavista, San Zenón, Santa Ana, Santa bárbara de pinto, Sitionuevo, Tenerife, Zapayan, zona bananera, Ciénaga, Santa Marta | M20: 23628787151 | N20: SGR - Asignación para la inversión regional 60% | O20: 1 | P20: 1. Gestionar la formulación y ejecución de los Planes de Educación Rural en los 28 municipios no certificados | Q20: PROYECTO CON CÓDIGO Y CON FINANCIACIÓN | R20: SEGURIDAD HUMANA Y JUSTICIA SOCIAL
A21: 18 | B21: REVOLUCIÓN DE LA EDUCACIÓN Y BECAS DEL CAMBIO | C21: 2020000020050 | D21: 2020 | E21: SECRETARÍA DE INFRAESTRUCTURA | F21: EDUCACIÓN | G21: INFRAESTRUCTURA EDUCATIVA | H21: CONSTRUCCIÓN Y ADECUACIÓN DE OBRAS COMPLEMENTARIAS EN SEDES EDUCATIVAS OFICIALES DEL DEPARTAMENTO DEL MAGDALENA (COLEGIOS DEL CAMBIO FFIE) | I21: OBRAS COMPLEMENTARIAS EN SIETE (7) SEDES EDUCATIVAS (FFIE) | J21: 5.828 ESTUDIANTES | K21: 5.828 ESTUDIANTES | L21: Algarrobo, Aracataca, Ariguaní, Cerro San Antonio, Chibolo, Concordia, El banco, Fundación, Guamal, Nueva granada, Pedraza, Pijiño del Carmen, El piñón, Pivijay, Plato, Pueblo viejo, Remolino, Retén, Sabanas de san ángel, Salamina, San Sebastián de Buenavista, San Zenón, Santa Ana, Santa bárbara de pinto, Sitionuevo, Tenerife, Zapayan, zona bananera, Ciénaga, Santa Marta | M21: 8200000000 | N21: SGR - Asignación para la inversión regional 60% | O21: 1 | P21: 1. Gestionar la adecuación, construcción y/o dotación de (58) Instituciones Educativas públicas, así como gestionar, acompañar y coordinar las adecuaciones e intervenciones que se adelantan por parte del Gobierno Nacional. | Q21: PROYECTO CON CÓDIGO Y CON FINANCIACIÓN | R21: SEGURIDAD HUMANA Y JUSTICIA SOCIAL
A22: 19 | B22: REVOLUCIÓN DE LA EDUCACIÓN Y BECAS DEL CAMBIO | C22: 2020002470008 | D22: 2020 | E22: INDEPORTES | F22: DEPORTE Y RECREACIÓN | G22: DEPORTE DE ALTO RENDIMIENTO | H22: FORTALECIMIENTO DEL DEPORTE DE ALTO RENDIMIENTO EN EL DEPARTAMENTO DEL MAGDALENA (ALTO RENDIMIENTO Y LIGAS) | I22: EL PROYECTO BUSCA BRINDAR A LOS ATLETAS APOYOS ECONÓMICOS Y ESTÍMULOS NECESARIOS EN EL ÁREA TÉCNICA, CIENCIAS APLICADAS Y DESARROLLO SOCIAL, CON MIRAS A ALCANZAR UN MEJOR RESULTADO Y DESEMPEÑO EN LAS COMPETENCIAS NACIONALES E INTERNACIONALES. | J22: 1000 PERSONAS | K22: 100 DEPORTISTAS | L22: Algarrobo, Aracataca, Ariguaní, Cerro San Antonio, Chibolo, Concordia, El banco, Fundación, Guamal, Nueva granada, Pedraza, Pijiño del Carmen, El piñón, Pivijay, Plato, Pueblo viejo, Remolino, Retén, Sabanas de san ángel, Salamina, San Sebastián de Buenavista, San Zenón, Santa Ana, Santa bárbara de pinto, Sitionuevo, Tenerife, Zapayan, zona bananera, Ciénaga, Santa Marta | M22: 14006443739 | N22: Recursos propios | O22: 2 | P22: 1. Brindar asistencia técnica y financiera a (100) atletas de alto rendimiento en el cuatrienio. 2. Fortalecer (16) ligas deportivas existentes y gestionar la creación de nuevas en el Magdalena mediante apoyo económico, capacitación y acompañamiento permanente. | Q22: PROYECTO CON CÓDIGO Y CON FINANCIACIÓN | R22: SEGURIDAD HUMANA Y JUSTICIA SOCIAL
A23: 20 | B23: REVOLUCIÓN DE LA EDUCACIÓN Y BECAS DEL CAMBIO | C23: 2020002470021 | D23: 2020 | E23: INDEPORTES | F23: DEPORTE Y RECREACIÓN | G23: ESCUELAS POPULARES DEL DEPORTE | H23: DESARROLLO DEL PROGRAMA DE ESCUELAS POPULARES DEL DEPORTE EN EL DEPARTAMENTO DEL MAGDALENA | I23: CONSISTE EN PONER EN FUNCIONAMIENTO NOVENTA (90) ESCUELAS POPULARES DEL DEPORTE EN EL CUATRIENIO DE LA SIGUIENTE FORMA: 2020: 50, 2021: 90 Y MANTENER ESTE NÚMERO PARA EL 2022 Y 2023, QUE FUNCIONARAN EN LOS VEINTINUEVE (29) MUNICIPIOS DEL MAGDALENA Y EL DISTRITO DE SANTA MARTA | J23: 196.584 PERSONAS | K23: 100.000 NIÑOS Y NIÑAS | L23: Algarrobo, Aracataca, Ariguaní, Cerro San Antonio, Chibolo, Concordia, El banco, Fundación, Guamal, Nueva granada, Pedraza, Pijiño del Carmen, El piñón, Pivijay, Plato, Pueblo viejo, Remolino, Retén, Sabanas de san ángel, Salamina, San Sebastián de Buenavista, San Zenón, Santa Ana, Santa bárbara de pinto, Sitionuevo, Tenerife, Zapayan, zona bananera, Ciénaga, Santa Marta | M23: 6225274234 | N23: Recursos propios | O23: 1 | P23: 1. Poner en funcionamiento y dotación las Escuelas Populares del Deporte para beneficiar (100.000) a NNA y Jóvenes, identificando semilleros y talentos deportivos en (29) Municipios del Departamento. | Q23: PROYECTO CON CÓDIGO Y CON FINANCIACIÓN | R23: SEGURIDAD HUMANA Y JUSTICIA SOCIAL
A24: 21 | B24: REVOLUCIÓN DE LA EDUCACIÓN Y BECAS DEL CAMBIO | C24: 2022002470035 | D24: 2022 | E24: INDEPORTES | F24: DEPORTE Y RECREACIÓN | G24: EVENTOS DEPORTIVOS | H24: DESARROLLO DE EVENTOS Y COMPETENCIAS DEPORTIVAS EN EL DEPARTAMENTO DEL MAGDALENA. | I24: REALIZAR COMPETENCIAS Y EVENTOS RECREO-DEPORTIVOS QUE CONSOLIDEN LA COMPETENCIA DEPORTIVA EN EL DEPARTAMENTO DEL MAGDALENA | J24: 1.463.427 PERSONAS | K24: 10.352 PERSONAS | L24: Algarrobo, Aracataca, Ariguaní, Cerro San Antonio, Chibolo, Concordia, El banco, Fundación, Guamal, Nueva granada, Pedraza, Pijiño del Carmen, El piñón, Pivijay, Plato, Pueblo viejo, Remolino, Retén, Sabanas de san ángel, Salamina, San Sebastián de Buenavista, San Zenón, Santa Ana, Santa bárbara de pinto, Sitionuevo, Tenerife, Zapayan, zona bananera, Ciénaga, Santa Marta | M24: 1629789029 | N24: Recursos propios | O24: 6 | P24: 1.4.2.4.1 Realizar 2 juegos deportivos departamentales. 1.4.2.4.2 Realizar 6 eventos propios delMagdalena (Vuelta Ciclística,Macondo, Triatlón Sierra Nevada y la Maratón Nocturna, entre otros). 1.4.2.4.3 Realizar 2 juegos deportivos comunales. 1.4.2.4.6 Realizar 6 juegos deportivos propios poblacionales (Indígenas, afros, desplazados, LGBTIQ+, mujeres, discapacitados, entre otros.1.4.2.4.7 Apoyar técnica y logísticamente (2) eventos deportivos internacionales. 1.4.2.4.9 Apoyar técnica y logísticamente (30) eventos deportivos en el departamento. | Q24: PROYECTO CON CÓDIGO Y CON FINANCIACIÓN | R24: SEGURIDAD HUMANA Y JUSTICIA SOCIAL
A25: 22 | B25: REVOLUCIÓN DE LA EDUCACIÓN Y BECAS DEL CAMBIO | C25: 2022002470045 | D25: 2022 | E25: INDEPORTES | F25: DEPORTE Y RECREACIÓN | G25: EVENTOS DEPORTIVOS | H25: APOYO A LA REALIZACIÓN DE LOS I JUEGOS CENTROAMERICANOS Y DEL CARIBE DE MAR Y PLAYA EN EL DEPARTAMENTO DEL MAGDALENA | I25: BRINDAR APOYO TÉCNICO Y LOGÍSTICO PARA LA REALIZACIÓN DE LOS I JUEGOS CENTROAMERICANOS Y DEL CARIBE DE MAR Y PLAYA EN PRO DE BRINDAR ACOMPAÑAMIENTO TÉCNICO Y LOGÍSTICO PARA EL DESARROLLO DE COMPETENCIAS DEPORTIVAS DE TALLA INTERNACIONAL. | J25: 1.463.427 PERSONAS | K25: 1.451 PERSONAS | L25: SANTA MARTA Y CIENAGA | M25: 1661254726 | N25: Recursos propios | O25: 3 | P25: Apoyar Técnica y logísticamente (30) eventos deportivos en el Departamento. Apoyar Técnica y logísticamente (2) eventos deportivos internacionales. Promover la participación de (80.000) personas en actividades físicas y recreo deportivas (de manera presencial y virtual) en el departamento. | Q25: PROYECTO CON CÓDIGO Y CON FINANCIACIÓN | R25: CONVERGENCIA SOCIAL REGIONAL
... A33: 30 | B33: REVOLUCIÓN DE LA EDUCACIÓN Y BECAS DEL CAMBIO | C33: 2021002470073 | D33: 2021 | E33: OFICINA DE LA MUJER | F33: INCLUSION SOCIAL Y RECONCIALIACION | G33: ATENCIÓN INTEGRAL | H33: ADECUACIÓN DE LA CASA DE EMPODERAMIENTO PARA LAS MUJERES Y SUS NÚCLEOS FAMILIARES QUE HAN SIDO VICTIMAS DE VIOLENCIA EN EL DEPARTAMENTO DEL MAGDALENA | I33: ADECUACIÓN DE LA CASA DE EMPODERAMIENTO PARA LAS MUJERES Y SUS NÚCLEOS FAMILIARES QUE HAN SIDO VÍCTIMAS DE VIOLENCIA EN EL DEPARTAMENTO DEL MAGDALENA | J33: 10.000 MUJERES | K33: 221.917 MUJERES | L33: Algarrobo, Aracataca, Ariguaní, Cerro San Antonio, Chibolo, Concordia, El banco, Fundación, Guamal, Nueva granada, Pedraza, Pijiño del Carmen, El piñón, Pivijay, Plato, Pueblo viejo, Remolino, Retén, Sabanas de san ángel, Salamina, San Sebastián de Buenavista, San Zenón, Santa Ana, Santa bárbara de pinto, Sitionuevo, Tenerife, Zapayan, zona bananera, Ciénaga, Santa Marta | M33: 249999331 | N33: Recursos propios | O33: 1 | P33: 1. Gestionar la adecuación, dotación y puesta en funcionamiento de (3) Casa Refugio y de Empoderamiento de la Mujer, con la articulación para su sostenimiento y viabilidad funcional con Alcaldías de las subregiones, además con las autoridades públicas y privadas. | Q33: PROYECTO CON CÓDIGO Y CON FINANCIACIÓN | R33: SEGURIDAD HUMANA Y JUSTICIA SOCIAL
A34: 31 | B34: REVOLUCIÓN DE LA EDUCACIÓN Y BECAS DEL CAMBIO | C34: 2021002470046 | D34: 2021 | F34: INCLUSION SOCIAL Y RECONCIALIACION | G34: INCLUSIÓN SOCIAL | H34: ADQUISICIÓN Y DOTACIÓN DE UNIDADES MÓVILES PARA EL FORTALECIMIENTO Y PRESTACIÓN DE LA OFERTA SOCIAL DEL PROGRAMA RED EQUIDAD EN EL DEPARTAMENTO DEL MAGDALENA (FERIAS DE LA EQUIDAD) | I34: DOTAR Y PONER EN FUNCIONAMIENTO UNIDADES MÓVILES PARA LA PRESTACIÓN DE SERVICIOS Y PROGRAMAS SOCIALES EN EL DEPARTAMENTO DEL MAGDALENA, EN BUSCA DE INCREMENTAR LA CAPACIDAD OPERATIVA DE LA GOBERNACIÓN EN LOS MUNICIPIOS | J34: 610.177 PERSONAS | K34: 2241.9417 PERSONAS | L34: Algarrobo, Aracataca, Ariguaní, Cerro San Antonio, Chibolo, Concordia, El banco, Fundación, Guamal, Nueva granada, Pedraza, Pijiño del Carmen, El piñón, Pivijay, Plato, Pueblo viejo, Remolino, Retén, Sabanas de san ángel, Salamina, San Sebastián de Buenavista, San Zenón, Santa Ana, Santa bárbara de pinto, Sitionuevo, Tenerife, Zapayan, zona bananera, Ciénaga, Santa Marta | M34: 1.7051229e+10 | N34: SGR - Asignación para la inversión regional 60% | O34: 41 | P34: 1. Realizar (116) Ferias de la Equidad para llevar la oferta institucional, activando el acceso a la ruta de derechos con programas sociales de salud, educación y nutrición, dignificación del hábitat e inclusión productiva, para la población vulnerable y territorios con mayor concentración de pobreza. 2. Implementar (1) estrategia para favorecer la cohesión familiar, el relacionamiento afectivo y la participación democrática como núcleo de la sociedad. 3. Implementar (1) estrategia de acompañamiento a las familias para prevenir la violencia y los abusos intrafamiliares, y el consumo de sustancias psicoactivas. 4. Diseñar y poner en funcionamiento una (1) ruta de atención que propenda por la reducción del maltrato infantil, los abusos sexuales y todo tipo de violencia que amenacen o afecten la integridad de los NNA. 5. Implementar (1) estrategia de atención integral a los jóvenes campesinos 6. Diseñar e implementar (1) estrategia para la prevención del consumo de sustancias psicoactivas, criminalidad, barras bravas, violencias en jóvenes, entre otros. 7. Diseñar e implementar (1) estrategia para la prevención del consumo de sustancias psicoactivas, criminalidad, barras bravas, violencias en jóvenes, entre otros. 8. Poner en funcionamiento una (1) ludoteca móvil para la primera infancia 9. Acompañar y apoyar (50) proyectos de emprendimiento formulados por grupos de jóvenes 10. Implementar en (29) Municipios la ruta de atención a mujeres víctimas de violencia 11. Beneficiar (1.000) jóvenes de la población NARP con acceso a la inclusión laboral y apoyo a sus emprendimientos. 12. Garantizar el acceso de (1.000) mujeres cabeza de familia, desplazadas o víctimas de otros hechos, con especial énfasis en las sobrevivientes de violencia sexual en el marco del conflicto armado a programas de restablecimiento de derechos y construcción de paz. 13. Beneficiar a (3.000) personas víctimas del conflicto armado con atención psicosocial. 14. Beneficiar a (2.000) víctimas del conflicto armado con acceso a procesos de formación, capacitación y/o la formalización de sus emprendimientos productivos, priorizando a jóvenes. 15. Realizar jornadas de formación laboral y productiva para (1.000) personas con discapacidad. 16. Poner en funcionamiento (2) Casas Indígenas. 17. Poner en funcionamiento y dotar (2) Casas de la Diversidad LGBTIQ+ 18. Formular e implementar (1) plan de acción humanitario para inmigrantes y/o sujetos de protección internacional. 19. Mantener la cobertura y vincular (4.500) nuevos estudiantes a la educación preescolar, básica y media al sistema educativo público. 20. Garantizar la vinculación (15.000) nuevos estudiantes: niños y niñas con discapacidad, estudiantes con capacidades o talentos excepcionales y adultos mayores de 15 años que se encuentra por fuera del sistema educativo. 21. Aumentar a (99,2%) la afiliación al régimen subsidiado y contributivo de salud, en procura de alcanzar la cobertura universal. 22. Diseñar e implementar la estrategia “Reclamando el Derecho Fundamental a la Salud” en (29) municipios del Departamento. 23. Implementar en (29) municipios, estrategias de vacunación. 24. Implementar en (29) municipios acciones de prevención y atención en salud oral 25. Mantener en 95% las coberturas útiles de vacunación de perros y gatos. 26. Beneficiar (2.000) niñas y niños menores de 5 años y ancianos en programas de recuperación nutricional en casa y/o centros de recuperación nutricional con micronutrientes, para disminuir la desnutrición crónica. 27. Beneficiar (2.000) madres gestantes y lactantes mediante paquetes alimentarios de apoyo nutricional. 28. Implementar (1) programa de actividades lúdicas y pedagógicas. 29. Realizar (60) talleres de lectura y escritura en el marco de las Ferias de la Equidad. 30. Gestionar la implementación de (1) Sistema de atención, valoración y recuperación de fauna silvestre, que propenda por el cumplimiento de la política ambiental para la prevención del tráfico de fauna. 31. Gestionar la implementación de (1) Centro de valoración, atención y protección animal, con una red móvil de asistencia. Programas de vacunación, control de natalidad, tenencia de animales y manejo de fauna domestica (caninos, felinos, entre otros) 32. Suscribir (1) alianza por el cambio para el fortalecimiento de las empresas del sector turístico. (Nuevas herramientas tecnológicas, normas técnicas sectoriales, certificaciones de calidad, entre otras). 33. Implementar (1) campaña “Magdalenense conoce al Magdalena” 34. Realizar (2) festivales gastronómicos. 35. Diseñar e implementar (1) plan de promoción gastronómica. 36. Implementar (1) laboratorio de diseño e innovación de artesanías. 37. Implementar (1) laboratorio de innovación en gastronomía de Macondo. 38. Crear e implementar (3) estrategias para el desarrollo de mercados turísticos especializados como el agroturismo, aviturismo, musical, gastronómico, étnico y de aventura entre otros 39. Estructurar e implementar una (1) campaña para Incentivar la compra de productos locales, así como la compra institucional en la ejecución de programas como el PAE 40. Realizar (58) jornadas en prevención de uso, utilización, reclutamiento y violencia sexual contra NNAJ, en el marco de las Ferias de la Equidad. 41. Realizar (58) brigadas jurídicas locales en el marco de las ferias de la equidad. | Q34: PROYECTO CON CÓDIGO Y CON FINANCIACIÓN | R34: SEGURIDAD HUMANA Y JUSTICIA SOCIAL
A35: 32 | B35: REVOLUCIÓN DE LA EDUCACIÓN Y BECAS DEL CAMBIO | C35: 2022002470017 | D35: 2022 | E35: SECRETARÍA DE INFRAESTRUCTURA | F35: INCLUSION SOCIAL Y RECONCIALIACION | G35: INFAESTRUCTURA SOCIAL | H35: CONSTRUCCIÓN Y DOTACIÓN DEL CENTRO DE VIDA PARA EL ADULTO MAYOR EN EL MUNICIPIO DE CHIBOLO, MAGDALENA | I35: SE DESARROLLARÁ LA CONSTRUCCIÓN DE UN CENTRO VIDA EL CUAL BRINDARÁ ATENCIÓN A LOS ADULTOS MAYORES HACIENDO UNA CONTRIBUCIÓN QUE IMPACTE EN SU CALIDAD DE VIDA Y BIENESTAR | J35: 2.414 PERSONAS | K35: 2.414 PERSONAS | L35: CHIBOLO | M35: 6102510945 | N35: Recursos propios | O35: 1 | P35: 1.1.1.5.1 Gestionar la construcción de (3) Centros Vida Día y Noche. | Q35: PROYECTO CON CÓDIGO Y CON FINANCIACIÓN | R35: SEGURIDAD HUMANA Y JUSTICIA SOCIAL
A36: 33 | B36: REVOLUCIÓN DE LA EDUCACIÓN Y BECAS DEL CAMBIO | C36: 2022002470021 | D36: 2022 | E36: SECRETARÍA DE INFRAESTRUCTURA | F36: INCLUSION SOCIAL Y RECONCIALIACION | G36: INFAESTRUCTURA SOCIAL | H36: CONSTRUCCIÓN DEL CENTRO DE VIDA PARA EL ADULTO MAYOR EN EL MUNICIPIO DE GUAMAL, MAGDALENA | I36: SE DESARROLLARÁ LA CONSTRUCCIÓN DE UN CENTRO VIDA EL CUAL BRINDARÁ ATENCIÓN A LOS ADULTOS MAYORES HACIENDO UNA CONTRIBUCIÓN QUE IMPACTE EN SU CALIDAD DE VIDA Y BIENESTAR | J36: 28.626 PERSONAS | K36: 4.640 PERSONAS | L36: GUAMAL | M36: 6030319355 | N36: Recursos propios | O36: 1 | P36: 1.1.1.5.1 Gestionar la construcción de (3) Centros Vida Día y Noche. | Q36: PROYECTO CON CÓDIGO Y CON FINANCIACIÓN | R36: SEGURIDAD HUMANA Y JUSTICIA SOCIAL
A37: 34 | B37: REVOLUCIÓN DE LA EDUCACIÓN Y BECAS DEL CAMBIO | C37: 2021002470027 | D37: 2021 | E37: OFICINA DE PROGRAMA DE ALIMENTACION | F37: INCLUSION SOCIAL Y RECONCIALIACION | G37: ALIMENTACIÓN | H37: IMPLEMENTACIÓN DEL PROGRAMA DE ATENCIÓN Y SUPLEMENTACIÓN NUTRICIONAL PARA LA PRIMERA INFANCIA Y MUJERES GESTANTES EN EL DEPARTAMENTO DEL MAGDALENA | I37: PRESTAR UN SERVICIO DE PROMOCIÓN SOCIAL A 4.000 BENEFICIARIOS EN CONDICIÓN DE INSEGURIDAD ALIMENTARIA, PARA LO CUAL SE REALIZARÁ LA ENTREGA DE PAQUETE NUTRICIONAL QUE CONSISTE EN EL SUMINISTRO DE UNA CANASTA BÁSICA DE ALIMENTOS FORTIFICADOS Y DE ALTO VALOR NUTRICIONAL ACOMPAÑADO DE SUPLEMENTOS QUE COMPLEMENTEN LA ALIMENTACIÓN FAMILIAR DE AQUELLOS BENEFICIARIOS EN ESTADO DE RIESGO DE DESNUTRICIÓN AGUDA Y MUJERES GESTANTES CON BAJO PESO PARA LA EDAD GESTACIONAL. | J37: 4.000 PERSONAS | K37: 222.927 PERSONAS | L37: Algarrobo, Aracataca, Ariguaní, Cerro San Antonio, Chibolo, Concordia, El banco, Fundación, Guamal, Nueva granada, Pedraza, Pijiño del Carmen, El piñón, Pivijay, Plato, Pueblo viejo, Remolino, Retén, Sabanas de san ángel, Salamina, San Sebastián de Buenavista, San Zenón, Santa Ana, Santa bárbara de pinto, Sitionuevo, Tenerife, Zapayan, zona bananera, Ciénaga, Santa Marta | M37: 1643845289 | N37: Recursos propios | O37: 2 | P37: 1. Beneficiar (2.000) niñas y niños menores de 5 años y ancianos en programas de recuperación nutricional en casa y/o centros de recuperación nutricional con micronutrientes, para disminuir la desnutrición crónica. 2. Beneficiar (2.000) madres gestantes y lactantes mediante paquetes alimentarios de apoyo nutricional. | Q37: PROYECTO CON CÓDIGO Y CON FINANCIACIÓN | R37: DERECHO HUMANO A LA ALIMENTACIÓN
A38: 35 | B38: REVOLUCIÓN DE LA EDUCACIÓN Y BECAS DEL CAMBIO | C38: 2021002470064 | D38: 2021 | E38: OFICINA DE PROGRAMA DE ALIMENTACION | F38: INCLUSION SOCIAL Y RECONCIALIACION | G38: APOYO NUTRICIONAL | H38: IMPLEMENTACIÓN DEL PROGRAMA DE INTERVENCIÓN NUTRICIONAL INTEGRAL PARA LA PRIMERA INFANCIA EN EL DEPARTAMENTO DEL MAGDALENA | I38: EL PROYECTO SE IMPLEMENTARÁ EN 29 MUNICIPIOS DEL DEPARTAMENTO DEL MAGDALENA Y EL DISTRITO DE SANTA MARTA. LA ALTERNATIVA CONSISTE EN LA PRESTACIÓN DE UN SERVICIO DE PROMOCIÓN SOCIAL A LOS BENEFICIARIOS EN CONDICIÓN DE INSEGURIDAD ALIMENTARIA Y NUTRICIONAL | J38: 5.000 PERSONAS | K38: 223.937 PERSONAS | L38: Algarrobo, Aracataca, Ariguaní, Cerro San Antonio, Chibolo, Concordia, El banco, Fundación, Guamal, Nueva granada, Pedraza, Pijiño del Carmen, El piñón, Pivijay, Plato, Pueblo viejo, Remolino, Retén, Sabanas de san ángel, Salamina, San Sebastián de Buenavista, San Zenón, Santa Ana, Santa bárbara de pinto, Sitionuevo, Tenerife, Zapayan, zona bananera, Ciénaga, Santa Marta | M38: 1719361474 | N38: Recursos propios | O38: 3 | P38: 1. Beneficiar (2.000) niñas y niños menores de 5 años y ancianos en programas de recuperación nutricional en casa y/o centros de recuperación nutricional con micronutrientes, para disminuir la desnutrición crónica. 2. Realizar seguimiento en los 29 Municipios al estado nutricional de la primera infancia 3. Implementar (1) estrategia de prevención y reducción de anemia nutricional | Q38: PROYECTO CON CÓDIGO Y SIN FINANCIACIÓN | R38: DERECHO HUMANO A LA ALIMENTACIÓN
A39: 36 | B39: REVOLUCIÓN DE LA EDUCACIÓN Y BECAS DEL CAMBIO | C39: 2021002470080 | D39: 2021 | E39: OFICINA DE PROGRAMA DE ALIMENTACION | F39: INCLUSION SOCIAL Y RECONCIALIACION | G39: APOYO NUTRICIONAL | H39: IMPLEMENTACIÓN DE ESTRATEGIAS PARA EL FORTALECIMIENTO DE LA SEGURIDAD ALIMENTARIA EN EL DEPARTAMENTO DEL MAGDALENA (DESNUTRICIÓN) | I39: EL PROYECTO SE IMPLEMENTARÁ EN 29 MUNICIPIOS DEL DEPARTAMENTO DEL MAGDALENA Y EL DISTRITO DE SANTA MARTA. LA ALTERNATIVA CONSISTE EN LA PRESTACIÓN DE UN SERVICIO DE PROMOCIÓN SOCIAL DONDE SE REALIZA LA ENTREGA UNA CANASTA BÁSICA DE ALIMENTOS FORTIFICADOS Y DE ALTO VALOR NUTRICIONAL CON COMPLEMENTOS ALIMENTICIOS Y KIT DE ASEO A LOS NIÑOS Y NIÑAS MENORES DE 5 AÑOS Y SU NÚCLEO FAMILIAR, | J39: 10.000 PERSONAS | K39: 224.947 PERSONAS | L39: Algarrobo, Aracataca, Ariguaní, Cerro San Antonio, Chibolo, Concordia, El banco, Fundación, Guamal, Nueva granada, Pedraza, Pijiño del Carmen, El piñón, Pivijay, Plato, Pueblo viejo, Remolino, Retén, Sabanas de san ángel, Salamina, San Sebastián de Buenavista, San Zenón, Santa Ana, Santa bárbara de pinto, Sitionuevo, Tenerife, Zapayan, zona bananera, Ciénaga, Santa Marta | M39: 4080200249 | N39: SGR - Asignación para la inversión regional 60% | O39: 4 | P39: 1. Beneficiar (2.000) niñas y niños menores de 5 años y ancianos en programas de recuperación nutricional en casa y/o centros de recuperación nutricional con micronutrientes, para disminuir la desnutrición crónica. 2. Beneficiar (2.000) madres gestantes y lactantes mediante paquetes alimentarios de apoyo nutricional. 3. Realizar seguimiento en los 29 Municipios al estado nutricional de la primera infancia 3. Implementar (1) estrategia de prevención y reducción de anemia nutricional | Q39: PROYECTO CON CÓDIGO Y CON FINANCIACIÓN | R39: DERECHO HUMANO A LA ALIMENTACIÓN
A40: 37 | B40: REVOLUCIÓN DEL TRABAJO Y VÍAS DEL CAMBIO | C40: 2021002470076 | D40: 2021 | E40: SECRETARÍA DE DESARROLLO ECONÓMICO | F40: COMERCIO, INDUSTRIA Y TURISMO | G40: GENERACIÓN DE EMPLEO | H40: IMPLEMENTACIÓN DE UNA ESTRATEGIA DE REACTIVACIÓN ECONÓMICA Y GENERACIÓN DE EMPLEO EN EL DEPARTAMENTO DEL MAGDALENA (BRIGADAS EMPRESARIALES) | I40: BRIGADAS EMPRESARIALES | J40: 3.000 PERSONAS | K40: 222.927 PERSONAS | L40: Algarrobo, Aracataca, Ariguaní, Cerro San Antonio, Chibolo, Concordia, El banco, Fundación, Guamal, Nueva granada, Pedraza, Pijiño del Carmen, El piñón, Pivijay, Plato, Pueblo viejo, Remolino, Retén, Sabanas de san ángel, Salamina, San Sebastián de Buenavista, San Zenón, Santa Ana, Santa bárbara de pinto, Sitionuevo, Tenerife, Zapayan, zona bananera, Ciénaga, Santa Marta | M40: 1.1199824e+10 | N40: SGR - Asignación para la inversión regional 60% | O40: 2 | P40: 1. Conformar (1) Comisión de Expertos de Alto Nivel para impulsar la reactivación 2. Formular e implementar (1) plan de impulso y formalización para los emprendimientos, la micro y pequeñas empresas. económica y la generación de empleo. | Q40: PROYECTO CON CÓDIGO Y CON FINANCIACIÓN | R40: DERECHO HUMANO A LA ALIMENTACIÓN
A41: 38 | B41: REVOLUCIÓN DE LA SALUD Y MEDICO EN TU CASA | C41: 2021002470088 | D41: 2021 | E41: SECRETARÍA DE SALUD | F41: SALUD Y PROTECCIÓN SOCIAL | G41: INFRAESTRUCTURA MEJORAMIENTO Y DOTACIÓN | H41: REMODELACIÓN DE LAS ÁREAS DE URGENCIAS, HOSPITALIZACIÓN Y CONSULTA EXTERNA ESPECIALIZADA DE LA E.S.E. - HOSPITAL SAN RAFAEL DE FUNDACIÓN- MAGDALENA | I41: AMPLIACIÓN DE LAS ÁREAS DE LOS SERVICIOS DE URGENCIAS, HOSPITALIZACIÓN Y CONSULTA EXTERNA ESPECIALIZADA | J41: 64.356 PERSONAS | K41: 221.917 PERSONAS | L41: FUNDACION | M41: 1.0420762e+09 | N41: Recursos propios | O41: 1 | P41: económica y la generación de | Q41: PROYECTO CON CÓDIGO Y CON FINANCIACIÓN | R41: SEGURIDAD HUMANA Y JUSTICIA SOCIAL
A42: 39 | B42: REVOLUCIÓN DE LA SALUD Y MEDICO EN TU CASA | C42: 2021002470084 | D42: 2021 | E42: SECRETARÍA DE SALUD | F42: SALUD Y PROTECCIÓN SOCIAL | G42: INFRESTRUCTURA MEJORAMIENTO Y DOTACIÓN | H42: REMODELACIÓN Y DOTACIÓN PARA LA PRESTACIÓN DE LOS SERVICIOS DE REHABILITACIÓN, IMAGENOLOGÍA Y CARDIOLOGÍA EN LA ESE HOSPITAL SAN CRISTOBAL DE CIÉNAGA MAGDALENA | I42: INTERVENIR LAS ÁREAS DE LOS SERVICIOS DE REHABILITACIÓN, IMAGENOLOGÍA, CARDIOLOGÍA Y ZONAS COMUNES DE ACCESO | J42: 79.475 PERSONAS | K42: 221.917 PERSONAS | L42: CIENAGA, | M42: 2.4140655e+09 | N42: Recursos propios | O42: 1 | P42: empleo. | Q42: PROYECTO CON CÓDIGO Y SIN FINANCIACIÓN | R42: SEGURIDAD HUMANA Y JUSTICIA SOCIAL
A43: 40 | B43: REVOLUCIÓN DE LA SALUD Y MEDICO EN TU CASA | C43: 2021002470099 | D43: 2021 | E43: OFICINA DE GESTIÓN DEL RIESGO DE DESASTRES | F43: SALUD Y PROTECCIÓN SOCIAL | G43: SALUD PÚBLICA | H43: FORTALECIMIENTO DE LAS ACCIONES DE GESTIÓN, DE PROMOCIÓN DE LA SALUD Y LA GESTIÓN DEL RIESGO COLECTIVO DE LA AUTORIDAD SANITARIA DEL DEPARTAMENTO DEL MAGDALENA. (MEDICO EN TU CASA) | I43: ACCIONES SECTORIALES Y COMUNITARIAS ENCAMINADAS A RECUPERAR LAS CAPACIDADES BÁSICAS DE LA AUTORIDAD SANITARIA EN LA NACIÓN Y TERRITORIOS PARA ACTUAR COMO PLANIFICADORES E INTEGRADORES DE LAS ACCIONES RELACIONADAS CON LA PRODUCCIÓN SOCIAL DE LA SALUD DENTRO Y FUERA DEL SECTOR SALUD, Y DE LA RESPUESTA PROPIA DEL SECTOR | J43: 911.036 PERSONAS | K43: 2216.9167 PERSONAS | L43: Algarrobo, Aracataca, Ariguaní, Cerro San Antonio, Chibolo, Concordia, El banco, Fundación, Guamal, Nueva granada, Pedraza, Pijiño del Carmen, El piñón, Pivijay, Plato, Pueblo viejo, Remolino, Retén, Sabanas de san ángel, Salamina, San Sebastián de Buenavista, San Zenón, Santa Ana, Santa bárbara de pinto, Sitionuevo, Tenerife, Zapayan, zona bananera, Ciénaga, Santa Marta | M43: 23095092939 | N43: Recursos propios | O43: 16 | P43: 1.3.1.2.1. Médico en tu Casa: Poner en funcionamiento y dotar (90) equipos básicos de salud con enfoque en salud familiar y comunitaria. 1.3.1.2.9. Mantener en 95% las coberturas útiles de vacunación de perros y gatos. 1.3.1.2.10. Realizar visitas de Inspección Vigilancia y Control a establecimientos de interés sanitario con enfoque de riesgo, en los (29) Municipios. 1.3.1.2.11. Implementar en (29) municipios visitas de prevención, vigilancia y control del riesgo sanitario de los acueductos municipales y veredales, para reducir las enfermedades relacionadas con los factores ambientales. 1.3.1.2.12. Implementar el programa nacional de prevención, manejo y control de IRA y 4 EDA en (29) municipios. 1.3.1.2.13. Realizar la programación y contratación del plan de intervenciones colectivas en (29) municipios, a través de la estrategia de Atención Primaria en Salud. 1.3.1.2.14. Implementar en (10) municipios, la estrategia de gestión integrada acorde a lineamientos nacionales. 1.3.1.2.17 Implementar en (29) municipios jornadas de Educación sexual y reproductiva con énfasis en las enfermedades de transmisión sexual ETS (VIH/SIDA), 1.3.1.2.18. mplementar en (29) municipios capacitaciones en la prevención y atención integral en ITS_VIH/SIDA con enfoque de vulnerabilidad a número Profesionales de la salud en la red pública y privada. 1.3.1.2.19 Implementar en (29) municipios acciones de detección temprana y tratamiento a la infección por sífilis en mujeres gestantes. 1.3.1.2.20 Diagnosticar oportunamente al 58% de las personas con enfermedad de Hansen. 1.3.1.2.21 Implementar estrategia 4x4 ampliada a 29 municipios. 1.3.1.2.24 Implementar y poner en operación en el (95%) de los municipios, el sistema de vigilancia en salud pública y de la violencia intrafamiliar. 1.3.1.2.27 Implementar (Res. 4886 de 2018) en (29) municipios con política pública de salud mental. 1.3.1.2.28. Formular e implementar (1) plan territorial de reducción del consumo de sustancia psicoactivas. 1.3.1.2.23 Brindar a (29) municipios apoyo en la gestión de vigilancia en salud pública y sanitaria (LSP). 1.3.1.2.18. mplementar en (29) municipios capacitaciones en la prevención y atención integral en ITS_VIH/SIDA con enfoque de vulnerabilidad a número Profesionales de la salud en la red pública y privada | Q43: PROYECTO CON CÓDIGO Y CON FINANCIACIÓN | R43: SEGURIDAD HUMANA Y JUSTICIA SOCIAL
A44: 41 | B44: REVOLUCIÓN DE LA SALUD Y MEDICO EN TU CASA | C44: 2021002470033 | D44: 2021 | E44: SECRETARÍA DE SALUD | F44: SALUD Y PROTECCIÓN SOCIAL | G44: SALUD PÚBLICA | H44: APOYO FINANCIERO PARA EL FORTALECIMIENTO DE LA OPERACIÓN CORRIENTE DE LOS HOSPITALES PÚBLICOS MONOPOLIOS QUE PRESTAN SERVICIOS TRAZADORES EN EL DEPARTAMENTO DEL MAGDALENA. | I44: OPERACIÓN DE LA PRESTACIÓN DE LOS SERVICIOS DE SALUD Y TECNOLOGÍAS, EN ZONAS ALEJADAS O DE DIFÍCIL ACCESO, A TRAVÉS DE INSTITUCIONES PÚBLICAS O INFRAESTRUCTURA PÚBLICA ADMINISTRADA POR TERCEROS UBICADAS EN ESTAS ZONAS, QUE SEAN MONOPOLIOS EN SERVICIOS TRAZADORES Y NO SOSTENIBLES POR VENTA DE SERVICIOS. | J44: 466.706 PERSONAS | K44: 221.917 PERSONAS | L44: Algarrobo, Aracataca, Ariguaní, Cerro San Antonio, Chibolo, Concordia, El banco, Fundación, Guamal, Nueva granada, Pedraza, Pijiño del Carmen, El piñón, Pivijay, Plato, Pueblo viejo, Remolino, Retén, Sabanas de san ángel, Salamina, San Sebastián de Buenavista, San Zenón, Santa Ana, Santa bárbara de pinto, Sitionuevo, Tenerife, Zapayan, zona bananera, Ciénaga, Santa Marta | M44: 7.3835585e+09 | N44: Recursos propios | O44: 1 | P44: 1. Garantizar al (99,2%) de la población pobre, el acceso a la prestación de servicios de salud y eventos NO PBS | Q44: PROYECTO CON CÓDIGO Y CON FINANCIACIÓN | R44: SEGURIDAD HUMANA Y JUSTICIA SOCIAL
A45: 42 | B45: REVOLUCIÓN DE LA SALUD Y MEDICO EN TU CASA | C45: 2020002470004 | D45: 2020 | E45: SECRETARÍA DE SALUD | F45: SALUD Y PROTECCIÓN SOCIAL | G45: SALUD PÚBLICA | H45: FORTALECIMIENTO DE LAS CAPACIDADES DE VIGILANCIA EN SALUD PÚBLICA EN EL DEPARTAMENTO DEL MAGDALENA | I45: REALIZAR ACCIONES DE LA SALUD PÚBLICA EN EL DEPARTAMENTO | J45: 1.427.026 PERSONAS | K45: 888.414 PERSONAS | L45: Algarrobo, Aracataca, Ariguaní, Cerro San Antonio, Chibolo, Concordia, El banco, Fundación, Guamal, Nueva granada, Pedraza, Pijiño del Carmen, El piñón, Pivijay, Plato, Pueblo viejo, Remolino, Retén, Sabanas de san ángel, Salamina, San Sebastián de Buenavista, San Zenón, Santa Ana, Santa bárbara de pinto, Sitionuevo, Tenerife, Zapayan, zona bananera, Ciénaga, Santa Marta | M45: 1511200000 | N45: Recursos propios | O45: 3 | P45: 1. Realizar visitas de Inspección Vigilancia y Control a establecimientos de interés sanitario con enfoque de riesgo, en los (29) Municipios. 2. Dotar a (130.000) personas con elementos de protección y bioseguridad en el marco del plan de acción por calamidad COVID-19. 3. Implementar (1) estrategia para la realización de pruebas rápidas en el marco del plan de acción por calamidad COVID-19. | Q45: PROYECTO CON CÓDIGO Y CON FINANCIACIÓN | R45: SEGURIDAD HUMANA Y JUSTICIA SOCIAL
A46: 43 | B46: REVOLUCIÓN DE LA SALUD Y MEDICO EN TU CASA | C46: 2022002470031 | D46: 2022 | E46: SECRETARÍA DE SALUD | F46: SALUD Y PROTECCIÓN SOCIAL | G46: SERVICIOS DE SALUD | H46: SANEAMIENTO DE LA DEUDA POR LOS SERVICIOS DE SALUD PRESTADOS A LA POBLACIÓN POBRE NO ASEGURADA, SUBSIDIADA, EXTRANJERA Y NACIONALES FRONTERIZOS EN EL DEPARTAMENTO DEL MAGDALENA | I46: SANEAMIENTO FINANCIERO DE LAS CUENTAS DE SERVICIOS Y TECNOLOGÍAS EN SALUD NO FINANCIADAS POR LA UPC DEL RÉGIMEN SUBSIDIADO Y DE LOS SERVICIOS PRESTADOS A LA PPNA, EXTRANJEROS Y NACIONALES FRONTERIZOS. | J46: 682.328 PERSONAS | K46: 29.527 PERSONAS | L46: Algarrobo, Aracataca, Ariguaní, Cerro San Antonio, Chibolo, Concordia, El banco, Fundación, Guamal, Nueva granada, Pedraza, Pijiño del Carmen, El piñón, Pivijay, Plato, Pueblo viejo, Remolino, Retén, Sabanas de san ángel, Salamina, San Sebastián de Buenavista, San Zenón, Santa Ana, Santa bárbara de pinto, Sitionuevo, Tenerife, Zapayan, zona bananera, Ciénaga, Santa Marta | M46: 3.4752588e+10 | N46: Recursos propios | O46: 1 | P46: 1.3.1.1.2 Salud Garantizar al (99,2%) de la población pobre, el acceso a la prestación de servicios de salud y eventos NO PBS. | Q46: PROYECTO CON CÓDIGO Y CON FINANCIACIÓN | R46: SEGURIDAD HUMANA Y JUSTICIA SOCIAL
... A68: 65 | B68: REVOLUCIÓN DEL TRABAJO Y VÍAS DEL CAMBIO | C68: 2022002470013 | D68: 2022 | E68: OFICINA DE PARTICIPACIÓN CIUDADANA | F68: GOBIERNO TERRITORIAL | G68: GESTIÓN INSTITUCIONAL | H68: FORTALECIMIENTO INSTITUCIONAL PARA LA TRANSPARENCIA, PARTICIPACIÓN CIUDADANA, CONTROL Y RESPONSABILIDAD SOCIAL Y ANTICORRUPCIÓN EN EL MARCO DE LA REVOLUCIÓN DEL GOBIERNO POPULAR EN EL DEPARTAMENTO DEL MAGDALENA. (VALLAS PUBLICITARIAS) | I68: FORTALECER LA TRANSPARENCIA, A TRAVÉS DE ACCIONES PARA VISIBILIZAR Y FACILITAR EL ACCESO A LA INFORMACIÓN PÚBLICA PERTINENTE, CLARA, DE CALIDAD Y SOCIALMENTE ÚTIL, DANDO COMPLIMIENTO A LO ESTIPULADO EN LA LEY 1712 DEL 2014, GARANTIZANDO EL DERECHO DE LOS CIUDADANOS AL ACCESO A ÉSTA Y SENTANDO LAS BASES PARA LA RECUPERACIÓN DE LA CONFIANZA INSTITUCIONAL POR PARTE DE LOS MAGDALENENSES. | J68: 1.326.525 PERSONAS | K68: 928.568 PERSONAS | L68: Algarrobo, Aracataca, Ariguaní, Cerro San Antonio, Chibolo, Concordia, El banco, Fundación, Guamal, Nueva granada, Pedraza, Pijiño del Carmen, El piñón, Pivijay, Plato, Pueblo viejo, Remolino, Retén, Sabanas de san ángel, Salamina, San Sebastián de Buenavista, San Zenón, Santa Ana, Santa bárbara de pinto, Sitionuevo, Tenerife, Zapayan, zona bananera, Ciénaga, Santa Marta | M68: 2411000000 | N68: Recursos propios | O68: 1 | P68: 4.1.3.1.2 Diseñar e implementar (1) estrategia de rendición pública de cuentas permanente. | Q68: PROYECTO CON CÓDIGO Y SIN FINANCIACIÓN | R68: CONVERGENCIA SOCIAL REGIONAL
...

Sheet MATRIZ SECTORIAL 2022
A1: BANCO DE PROYECTOS DE INVERSIÓN DEPARTAMENTAL 2023
A2: N | B2: REVOLUCIÓN | C2: BPIN | D2: AÑO | E2: DEPENDENCIA | F2: SECTOR | G2: SUBSECTOR | H2: NOMBRE DEL PROYECTO | I2: ALCANCE | J2: POBLACION AFECTADA | K2: POBLACION BENEFICIADA | L2: LOCALIZACION | M2: VALOR TOTAL DEL PROYECTO | N2: FUENTE DE FINANCIACIÓN | O2: NUMERO DE INDICADORES PDD | P2: Observaciones | Q2: ESTADO | R2: LINEA NUEVO PLAN NACIONAL DE DESARROLLO | S2: ARCHIVO | T2: VIABILIDI | U2: ARCHIVO | V2: VIABILIDAD | W2: ESTADO
